BEGIN:VCALENDAR
VERSION:2.0
PRODID:-//Trường Cao đẳng Thương mại và Du lịch Hà Nội (HCCT) - ECPv6.6.3//NONSGML v1.0//EN
CALSCALE:GREGORIAN
METHOD:PUBLISH
X-WR-CALNAME:Trường Cao đẳng Thương mại và Du lịch Hà Nội (HCCT)
X-ORIGINAL-URL:https://hcct.edu.vn
X-WR-CALDESC:Events for Trường Cao đẳng Thương mại và Du lịch Hà Nội (HCCT)
REFRESH-INTERVAL;VALUE=DURATION:PT1H
X-Robots-Tag:noindex
X-PUBLISHED-TTL:PT1H
BEGIN:VTIMEZONE
TZID:Asia/Krasnoyarsk
BEGIN:STANDARD
TZOFFSETFROM:+0700
TZOFFSETTO:+0700
TZNAME:+07
DTSTART:20210101T000000
END:STANDARD
END:VTIMEZONE
BEGIN:VEVENT
DTSTART;TZID=Asia/Krasnoyarsk:20210730T080000
DTEND;TZID=Asia/Krasnoyarsk:20210731T170000
DTSTAMP:20260426T084518
CREATED:20210711T172732Z
LAST-MODIFIED:20210718T044556Z
UID:909-1627632000-1627750800@hcct.edu.vn
SUMMARY:Workshop Trải Nghiệm: Mình đang cần gì lúc này? trong mùa COVID-19
DESCRIPTION:Bạn mến\, \nTrong khi dịch Covid diễn ra phức tạp\, thống kê cho thấy có 30\,6 triệu người ở nước ta ( tính đến T6/2020\, theo tổng cục thống kê VN)  bị ảnh hưởng bởi dịch Covid\, con số có thể cao hơn rất nhiều tính đến thời điểm hiện tại là tháng 7/2021. Có người lao động thì bị giảm lương\, có người bị mất việc làm hay thậm chí bản thân mình hay người thân bị nhiễm bệnh và sức khỏe suy yếu. Chúng ta thật sự đang đi qua giai đoạn khó khăn của năm 2021. \nCùng lúc đó\, mình thấy xung quanh mình mọi người mâu thuẫn nhiều từ đồng nghiệp đến quan hệ gia đình. Thực ra mâu thuẫn cũng dễ hiểu. Bình thường đang đi làm gặp đồng nghiệp\, giờ tự nhiên phải làm từ xa. Một chuyện bé tí\, trước quay sang trao đổi mấy câu là xong\, giờ phải chờ mấy tiếng\, có khi mấy ngày. Trong mấy tiếng\, mấy ngày đó\, đầu mình đã kịp thêu dệt thêm bao nhiêu câu chuyện về người kia rồi. Khi liên lạc lại được với nhau thì chuyện lúc đầu bé tí\, sau một thời gian được ngâm ở trong đầu thì đã to bằng con voi. Đấy là chưa kể việc ở nhà cả ngày với bốn bức tường\, với gia đình. Mà gia đình nào chả có chuyện. Ở chung càng nhiều lại càng va chạm và dễ cãi nhau. \n \n“MÌNH ĐANG CẦN GÌ LÚC NÀY?” – \nBạn đã bao giờ dám hỏi mình câu này trong lúc mọi chuyện đang rối tung và hình như đều cần mình giải quyết? Nếu chưa\, mình sẽ thử cùng nhau trong cuộc thí nghiệm này nhé. \nThí nghiệm rất đơn giản: \nMình sẽ gặp nhau trong vòng 90’ vào thứ bảy tuần này\, cùng tìm hiểu về lòng trắc ẩn cho chính mình\, và thực hành bài “Mình đang cần gì lúc này?”. Sau đó\, mỗi người sẽ về làm thử vài ngày trong cuộc sống của mình. Chúng ta sẽ chia sẻ kết quả với nhau vào tối thứ năm – tất cả những thành quả\, những điều nhận ra\, cũng ra những băn khoăn khi thực hành. Chúng ta sẽ đi qua những bước đi chập chững khi dành tình thương cho chính mình trong sự đồng hành của những người bạn. \n \nLink zoom: Tại đây \n+ Meeting ID: 872 8989 2989 \n+ Passcode: 123456 \nWorkshop miễn phí và được phối hợp tổ chức bởi All- Authentic Live and Learn và CLB Hoa Sen Mindfulness. \nMọi chi tiết vui lòng liên hệ: \n\nEmail: all.org.vn@gmail.com\nFanpage:\n\nHoasen Mindfulness: https://www.facebook.com/mindfulness.hsm/?ref=py_c \nAuthentic Live&Learn (https://www.facebook.com/ALL.AuthenticLiveLearn/)
URL:https://hcct.edu.vn/event/workshop-trai-nghiem-minh-dang-can-gi-luc-nay-trong-mua-covid-19/
LOCATION:Online trên Zoom
CATEGORIES:Hoạt động sinh viên,Sự kiện nổi bật
ATTACH;FMTTYPE=image/png:https://hcct.edu.vn/wp-content/uploads/2021/07/pasted_image_0.png
END:VEVENT
BEGIN:VEVENT
DTSTART;VALUE=DATE:20210711
DTEND;VALUE=DATE:20210712
DTSTAMP:20260426T084518
CREATED:20210711T105116Z
LAST-MODIFIED:20210711T114412Z
UID:801-1625961600-1626047999@hcct.edu.vn
SUMMARY:Cuộc thi Khoảnh khắc sinh viên Khoa Tài chính- Ngân hàng
DESCRIPTION:Các bạn sinh viên yêu quý\,\nNhằm lưu giữ những kỉ niệm\, khoảnh khắc đẹp mà Khoa Tài chính – Ngân hàng mang lại cho các sinh viên trong suốt quá trình học tập\, đồng thời tạo sân chơi để gắn kết mối quan hệ giữa thầy cô và các bạn sinh viên\, Khoa Tài chính – Ngân hàng\, trường Đại học Hoa Sen tổ chức cuộc thi mang tên: “Khoảnh khắc sinh viên Khoa Tài chính- Ngân hàng”. \nNội dung chi tiết cuộc thi như sau:\n– Tên Cuộc thi: Khoảnh khắc sinh viên Khoa TCNH;\n– Đối tượng: Tất cả sinh viên Trường Đại học Hoa Sen;\n– Hình thức: Hình chụp về khoảnh khắc đẹp và ấn tượng trong quá trình học tập. Sinh viên viết bài cảm nhận không quá 600 từ\, bài viết được gửi về Ban quản trị website của khoa: Tại đây và được đăng trên fanpage của khoa TCNH. Bài dự thi\, sinh viên được yêu cầu tương tác trực tiếp\, like\, share\, comment trên fanpage của khoa TCNH;\n– Nội dung bài viết: Cảm nhận của sinh viên về Khoa TCNH\, về ngành học\, thầy cô\, bạn bè\, các đợt trải nghiệm thực tập\, fieldtrip\, các hoạt động của CLB HFA&AAC\,…; \nCơ cấu giải thưởng:\n– 01 Giải nhất: 1\,000\,000 VNĐ kèm Giấy chứng nhận;\n– 01 Giải nhì: 500\,000 VNĐ kèm Giấy chứng nhận;\n– 01 Giải ba: 300\,000 VNĐ kèm Giấy chứng nhận;\n– Tiêu chí chấm điểm: Dựa trên tổng số lượt like page\, like post\, share\, comment;\nThời gian đăng ký: Từ 01/7/2021 đến hết 31/8/2021;\nTrao giải dự kiến: 03/9/2021.
URL:https://hcct.edu.vn/event/cuoc-thi-khoanh-khac-sinh-vien-khoa-tai-chinh-ngan-hang/
LOCATION:Hội trường tầng 2 nhà G
CATEGORIES:Sự kiện nổi bật
ATTACH;FMTTYPE=image/jpeg:https://hcct.edu.vn/wp-content/uploads/2021/07/cuoc_thi_khoang_khac_sinh_vien_khoa_tai_chinh_ngan_hang.jpg
END:VEVENT
END:VCALENDAR